BEGIN:VCALENDAR
VERSION:2.0
PRODID:icalendar-ruby
CALSCALE:GREGORIAN
METHOD:PUBLISH
BEGIN:VEVENT
DTSTAMP:20260419T160609Z
UID:6-460553@bereancalvarychapel.com
DTSTART:20260809T170000Z
DTEND:20260809T180000Z
CLASS:PUBLIC
CREATED:20260419T063313
DESCRIPTION:
LAST-MODIFIED:20260419T063313
LOCATION:Berean Calvary Chapel
SUMMARY:Sunday Service
URL;VALUE=URI:https://www.bereancalvarychapel.com/events/sunday-service/202
 6-08-09
END:VEVENT
END:VCALENDAR
