BEGIN:VCALENDAR
VERSION:2.0
PRODID:icalendar-ruby
CALSCALE:GREGORIAN
METHOD:PUBLISH
BEGIN:VEVENT
DTSTAMP:20260419T174254Z
UID:6-460916@bereancalvarychapel.com
DTSTART:20260816T170000Z
DTEND:20260816T180000Z
CLASS:PUBLIC
CREATED:20260419T101513
DESCRIPTION:
LAST-MODIFIED:20260419T101513
LOCATION:Berean Calvary Chapel
SUMMARY:Sunday Service
URL;VALUE=URI:https://www.bereancalvarychapel.com/events/sunday-service/202
 6-08-16
END:VEVENT
END:VCALENDAR
