BEGIN:VCALENDAR
VERSION:2.0
PRODID:icalendar-ruby
CALSCALE:GREGORIAN
METHOD:PUBLISH
BEGIN:VEVENT
DTSTAMP:20260421T105645Z
UID:6-464557@bereancalvarychapel.com
DTSTART:20260830T170000Z
DTEND:20260830T180000Z
CLASS:PUBLIC
CREATED:20260420T182147
DESCRIPTION:
LAST-MODIFIED:20260420T182147
LOCATION:Berean Calvary Chapel
SUMMARY:Sunday Service
URL;VALUE=URI:https://www.bereancalvarychapel.com/events/sunday-service/202
 6-08-30
END:VEVENT
END:VCALENDAR
