BEGIN:VCALENDAR
VERSION:2.0
PRODID:icalendar-ruby
CALSCALE:GREGORIAN
METHOD:PUBLISH
BEGIN:VEVENT
DTSTAMP:20260421T182705Z
UID:6-465653@bereancalvarychapel.com
DTSTART:20260927T170000Z
DTEND:20260927T180000Z
CLASS:PUBLIC
CREATED:20260421T104508
DESCRIPTION:
LAST-MODIFIED:20260421T104508
LOCATION:Berean Calvary Chapel
SUMMARY:Sunday Service
URL;VALUE=URI:https://www.bereancalvarychapel.com/events/sunday-service/202
 6-09-27
END:VEVENT
END:VCALENDAR
