BEGIN:VCALENDAR
VERSION:2.0
PRODID:icalendar-ruby
CALSCALE:GREGORIAN
METHOD:PUBLISH
BEGIN:VEVENT
DTSTAMP:20260421T215949Z
UID:6-466019@bereancalvarychapel.com
DTSTART:20261011T170000Z
DTEND:20261011T180000Z
CLASS:PUBLIC
CREATED:20260421T132051
DESCRIPTION:
LAST-MODIFIED:20260421T132051
LOCATION:Berean Calvary Chapel
SUMMARY:Sunday Service
URL;VALUE=URI:https://www.bereancalvarychapel.com/events/sunday-service/202
 6-10-11
END:VEVENT
END:VCALENDAR
