BEGIN:VCALENDAR
VERSION:2.0
PRODID:icalendar-ruby
CALSCALE:GREGORIAN
METHOD:PUBLISH
BEGIN:VEVENT
DTSTAMP:20260422T000140Z
UID:6-466384@bereancalvarychapel.com
DTSTART:20261018T170000Z
DTEND:20261018T180000Z
CLASS:PUBLIC
CREATED:20260421T155932
DESCRIPTION:
LAST-MODIFIED:20260421T155932
LOCATION:Berean Calvary Chapel
SUMMARY:Sunday Service
URL;VALUE=URI:https://www.bereancalvarychapel.com/events/sunday-service/202
 6-10-18
END:VEVENT
END:VCALENDAR
