BEGIN:VCALENDAR
VERSION:2.0
PRODID:icalendar-ruby
CALSCALE:GREGORIAN
METHOD:PUBLISH
BEGIN:VEVENT
DTSTAMP:20260422T014806Z
UID:6-466749@bereancalvarychapel.com
DTSTART:20261025T170000Z
DTEND:20261025T180000Z
CLASS:PUBLIC
CREATED:20260421T183750
DESCRIPTION:
LAST-MODIFIED:20260421T183750
LOCATION:Berean Calvary Chapel
SUMMARY:Sunday Service
URL;VALUE=URI:https://www.bereancalvarychapel.com/events/sunday-service/202
 6-10-25
END:VEVENT
END:VCALENDAR
