BEGIN:VCALENDAR
VERSION:2.0
PRODID:icalendar-ruby
CALSCALE:GREGORIAN
METHOD:PUBLISH
BEGIN:VEVENT
DTSTAMP:20260419T130310Z
UID:7-460240@bereancalvarychapel.com
DTSTART:20260730T013000Z
DTEND:20260730T023000Z
CLASS:PUBLIC
CREATED:20260419T010856
DESCRIPTION:
LAST-MODIFIED:20260419T010856
LOCATION:Berean Calvary Chapel
SUMMARY:Wednesday Service
URL;VALUE=URI:https://www.bereancalvarychapel.com/events/wednesday-service/
 2026-07-29
END:VEVENT
END:VCALENDAR
