BEGIN:VCALENDAR
VERSION:2.0
PRODID:icalendar-ruby
CALSCALE:GREGORIAN
METHOD:PUBLISH
BEGIN:VEVENT
DTSTAMP:20260419T145003Z
UID:7-460603@bereancalvarychapel.com
DTSTART:20260806T013000Z
DTEND:20260806T023000Z
CLASS:PUBLIC
CREATED:20260419T063313
DESCRIPTION:
LAST-MODIFIED:20260419T063313
LOCATION:Berean Calvary Chapel
SUMMARY:Wednesday Service
URL;VALUE=URI:https://www.bereancalvarychapel.com/events/wednesday-service/
 2026-08-05
END:VEVENT
END:VCALENDAR
