BEGIN:VCALENDAR
VERSION:2.0
PRODID:icalendar-ruby
CALSCALE:GREGORIAN
METHOD:PUBLISH
BEGIN:VEVENT
DTSTAMP:20260421T085256Z
UID:7-464607@bereancalvarychapel.com
DTSTART:20260820T013000Z
DTEND:20260820T023000Z
CLASS:PUBLIC
CREATED:20260420T182147
DESCRIPTION:
LAST-MODIFIED:20260420T182147
LOCATION:Berean Calvary Chapel
SUMMARY:Wednesday Service
URL;VALUE=URI:https://www.bereancalvarychapel.com/events/wednesday-service/
 2026-08-19
END:VEVENT
END:VCALENDAR
