BEGIN:VCALENDAR
VERSION:2.0
PRODID:icalendar-ruby
CALSCALE:GREGORIAN
METHOD:PUBLISH
BEGIN:VEVENT
DTSTAMP:20260421T123722Z
UID:7-464973@bereancalvarychapel.com
DTSTART:20260903T013000Z
DTEND:20260903T023000Z
CLASS:PUBLIC
CREATED:20260421T052924
DESCRIPTION:
LAST-MODIFIED:20260421T052924
LOCATION:Berean Calvary Chapel
SUMMARY:Wednesday Service
URL;VALUE=URI:https://www.bereancalvarychapel.com/events/wednesday-service/
 2026-09-02
END:VEVENT
END:VCALENDAR
