BEGIN:VCALENDAR
VERSION:2.0
PRODID:icalendar-ruby
CALSCALE:GREGORIAN
METHOD:PUBLISH
BEGIN:VEVENT
DTSTAMP:20260421T175539Z
UID:7-465704@bereancalvarychapel.com
DTSTART:20260924T013000Z
DTEND:20260924T023000Z
CLASS:PUBLIC
CREATED:20260421T104508
DESCRIPTION:
LAST-MODIFIED:20260421T104508
LOCATION:Berean Calvary Chapel
SUMMARY:Wednesday Service
URL;VALUE=URI:https://www.bereancalvarychapel.com/events/wednesday-service/
 2026-09-23
END:VEVENT
END:VCALENDAR
