BEGIN:VCALENDAR
VERSION:2.0
PRODID:icalendar-ruby
CALSCALE:GREGORIAN
METHOD:PUBLISH
BEGIN:VEVENT
DTSTAMP:20260421T194009Z
UID:7-465705@bereancalvarychapel.com
DTSTART:20261001T013000Z
DTEND:20261001T023000Z
CLASS:PUBLIC
CREATED:20260421T104508
DESCRIPTION:
LAST-MODIFIED:20260421T104508
LOCATION:Berean Calvary Chapel
SUMMARY:Wednesday Service
URL;VALUE=URI:https://www.bereancalvarychapel.com/events/wednesday-service/
 2026-09-30
END:VEVENT
END:VCALENDAR
