BEGIN:VCALENDAR
VERSION:2.0
PRODID:icalendar-ruby
CALSCALE:GREGORIAN
METHOD:PUBLISH
BEGIN:VEVENT
DTSTAMP:20260421T212756Z
UID:7-466070@bereancalvarychapel.com
DTSTART:20261008T013000Z
DTEND:20261008T023000Z
CLASS:PUBLIC
CREATED:20260421T132051
DESCRIPTION:
LAST-MODIFIED:20260421T132051
LOCATION:Berean Calvary Chapel
SUMMARY:Wednesday Service
URL;VALUE=URI:https://www.bereancalvarychapel.com/events/wednesday-service/
 2026-10-07
END:VEVENT
END:VCALENDAR
