BEGIN:VCALENDAR
VERSION:2.0
PRODID:icalendar-ruby
CALSCALE:GREGORIAN
METHOD:PUBLISH
BEGIN:VEVENT
DTSTAMP:20260421T231659Z
UID:7-466435@bereancalvarychapel.com
DTSTART:20261015T013000Z
DTEND:20261015T023000Z
CLASS:PUBLIC
CREATED:20260421T155932
DESCRIPTION:
LAST-MODIFIED:20260421T155932
LOCATION:Berean Calvary Chapel
SUMMARY:Wednesday Service
URL;VALUE=URI:https://www.bereancalvarychapel.com/events/wednesday-service/
 2026-10-14
END:VEVENT
END:VCALENDAR
